BEGIN:VCALENDAR
VERSION:2.0
PRODID:-//Portola HS Baseball - ECPv6.15.11//NONSGML v1.0//EN
CALSCALE:GREGORIAN
METHOD:PUBLISH
X-WR-CALNAME:Portola HS Baseball
X-ORIGINAL-URL:https://portolabaseball.org
X-WR-CALDESC:Events for Portola HS Baseball
REFRESH-INTERVAL;VALUE=DURATION:PT1H
X-Robots-Tag:noindex
X-PUBLISHED-TTL:PT1H
BEGIN:VTIMEZONE
TZID:UTC
BEGIN:STANDARD
TZOFFSETFROM:+0000
TZOFFSETTO:+0000
TZNAME:UTC
DTSTART:20230101T000000
END:STANDARD
END:VTIMEZONE
BEGIN:VEVENT
DTSTART;TZID=UTC:20240305T150000
DTEND;TZID=UTC:20240305T173000
DTSTAMP:20260422T091923
CREATED:20230825T185404Z
LAST-MODIFIED:20230825T185404Z
UID:1100-1709650800-1709659800@portolabaseball.org
SUMMARY:@ Beckman
DESCRIPTION:
URL:https://portolabaseball.org/event/beckman/
LOCATION:Beckman High School\, 3588 Bryan Ave.\, Irvine\, CA\, 92602\, United States
CATEGORIES:GAME SCHEDULE,VARSITY
END:VEVENT
BEGIN:VEVENT
DTSTART;TZID=UTC:20240226T150000
DTEND;TZID=UTC:20240226T173000
DTSTAMP:20260422T091923
CREATED:20230825T185232Z
LAST-MODIFIED:20230825T185232Z
UID:1099-1708959600-1708968600@portolabaseball.org
SUMMARY:v Saint Margarets
DESCRIPTION:Please arrive 60 minutes before game time.
URL:https://portolabaseball.org/event/v-saint-margarets/
LOCATION:Portola High School\, 1001 Cadence\, Irvine\, CA\, 92618
CATEGORIES:GAME SCHEDULE,VARSITY
END:VEVENT
BEGIN:VEVENT
DTSTART;TZID=UTC:20240222T000000
DTEND;TZID=UTC:20240222T000000
DTSTAMP:20260422T091923
CREATED:20230825T185040Z
LAST-MODIFIED:20230825T185040Z
UID:1098-1708560000-1708560000@portolabaseball.org
SUMMARY:Elks Tournament (Game 4)
DESCRIPTION:TBD
URL:https://portolabaseball.org/event/elks-tournament-game-4/
LOCATION:CA
CATEGORIES:GAME SCHEDULE,VARSITY
END:VEVENT
BEGIN:VEVENT
DTSTART;TZID=UTC:20240220T000000
DTEND;TZID=UTC:20240220T000000
DTSTAMP:20260422T091923
CREATED:20230825T184947Z
LAST-MODIFIED:20230825T184947Z
UID:1097-1708387200-1708387200@portolabaseball.org
SUMMARY:Elks Tournament (Game 3)
DESCRIPTION:TBD
URL:https://portolabaseball.org/event/elks-tournament-game-3/
LOCATION:CA
CATEGORIES:GAME SCHEDULE,VARSITY
END:VEVENT
BEGIN:VEVENT
DTSTART;TZID=UTC:20240215T000000
DTEND;TZID=UTC:20240215T000000
DTSTAMP:20260422T091923
CREATED:20230825T184901Z
LAST-MODIFIED:20230825T184901Z
UID:1096-1707955200-1707955200@portolabaseball.org
SUMMARY:Elks Tournament (Game 2)
DESCRIPTION:TBD
URL:https://portolabaseball.org/event/elks-tournament-game-2/
LOCATION:CA
CATEGORIES:GAME SCHEDULE,VARSITY
END:VEVENT
BEGIN:VEVENT
DTSTART;TZID=UTC:20240210T100000
DTEND;TZID=UTC:20240210T123000
DTSTAMP:20260422T091923
CREATED:20230825T184624Z
LAST-MODIFIED:20230825T184624Z
UID:1093-1707559200-1707568200@portolabaseball.org
SUMMARY:@ ESTANCIA
DESCRIPTION:Please arrive 60 minutes before game time.
URL:https://portolabaseball.org/event/estancia/
LOCATION:Estancia High School\, 2323 Placentia Ave.\, Costa Mesa\, CA\, 92627\, United States
CATEGORIES:GAME SCHEDULE,VARSITY
END:VEVENT
END:VCALENDAR